BEGIN:VCALENDAR
PRODID:-//hacksw/handcal//NONSGML v1.0//EN
VERSION:2.0
CALSCALE:GREGORIAN
BEGIN:VTIMEZONE
TZID:Europe/Paris
BEGIN:DAYLIGHT
TZOFFSETFROM:+0100
RRULE:FREQ=YEARLY;BYMONTH=3;BYDAY=-1SU
DTSTART:19810329T020000
TZNAME:UTC+2
TZOFFSETTO:+0200
END:DAYLIGHT
BEGIN:STANDARD
TZOFFSETFROM:+0200
RRULE:FREQ=YEARLY;BYMONTH=10;BYDAY=-1SU
DTSTART:19961027T030000
TZNAME:UTC+1
TZOFFSETTO:+0100
END:STANDARD
END:VTIMEZONE
BEGIN:VEVENT
TRANSP:OPAQUE
DTSTART;TZID=Europe/Paris:20260530T090000Z
DTEND;TZID=Europe/Paris:20260530T123000Z
SUMMARY:ADULTES & FAMILLES - Fête du jeu
LOCATION:Quai de Queyries
DESCRIPTION:Un départ commun est organisé au centre d'animation Sarah Bernhardt pour aller à la Fête du jeu. Venez passer un moment ludique pour tous et un pique-nique au quai de Queyries. Prévoir pique-nique.
END:VEVENT
END:VCALENDAR