BEGIN:VCALENDAR
PRODID:-//hacksw/handcal//NONSGML v1.0//EN
VERSION:2.0
CALSCALE:GREGORIAN
BEGIN:VTIMEZONE
TZID:Europe/Paris
BEGIN:DAYLIGHT
TZOFFSETFROM:+0100
RRULE:FREQ=YEARLY;BYMONTH=3;BYDAY=-1SU
DTSTART:19810329T020000
TZNAME:UTC+2
TZOFFSETTO:+0200
END:DAYLIGHT
BEGIN:STANDARD
TZOFFSETFROM:+0200
RRULE:FREQ=YEARLY;BYMONTH=10;BYDAY=-1SU
DTSTART:19961027T030000
TZNAME:UTC+1
TZOFFSETTO:+0100
END:STANDARD
END:VTIMEZONE
BEGIN:VEVENT
TRANSP:OPAQUE
DTSTART;TZID=Europe/Paris:20260509T123000Z
DTEND;TZID=Europe/Paris:20260509T150000Z
SUMMARY:ADULTES & FAMILLES - Adventure Game
LOCATION:Bordeaux
DESCRIPTION:Venez participer en famille à un Action Game immersif. Êtes-vous prêts à relever les épreuves et à accumuler le plus de points ?! &nbsp; A partir de 7 ans, 14 places.
END:VEVENT
END:VCALENDAR