BEGIN:VCALENDAR
PRODID:-//hacksw/handcal//NONSGML v1.0//EN
VERSION:2.0
CALSCALE:GREGORIAN
BEGIN:VTIMEZONE
TZID:Europe/Paris
BEGIN:DAYLIGHT
TZOFFSETFROM:+0100
RRULE:FREQ=YEARLY;BYMONTH=3;BYDAY=-1SU
DTSTART:19810329T020000
TZNAME:UTC+2
TZOFFSETTO:+0200
END:DAYLIGHT
BEGIN:STANDARD
TZOFFSETFROM:+0200
RRULE:FREQ=YEARLY;BYMONTH=10;BYDAY=-1SU
DTSTART:19961027T030000
TZNAME:UTC+1
TZOFFSETTO:+0100
END:STANDARD
END:VTIMEZONE
BEGIN:VEVENT
TRANSP:OPAQUE
DTSTART;TZID=Europe/Paris:20260506T120000Z
DTEND;TZID=Europe/Paris:20260506T160000Z
SUMMARY:JEUNESSE - Sortie "Le Fabuleux destin des déchets ménagers"
LOCATION:Parvis des archives de Bordeaux Métropole, Bordeaux
DESCRIPTION:Sortie au parvis des archives de Bordeaux Métropole pour découvrir "Le fabuleux destin des déchets ménagers". Au travers de photographies et d'enregistrements sonores nous découvrirons l'histoire de Bordeaux sous un autre angle. Pour les jeunes ayant une carte TBM, ne l'oubliez pas. 12 places
END:VEVENT
END:VCALENDAR