BEGIN:VCALENDAR
PRODID:-//hacksw/handcal//NONSGML v1.0//EN
VERSION:2.0
CALSCALE:GREGORIAN
BEGIN:VTIMEZONE
TZID:Europe/Paris
BEGIN:DAYLIGHT
TZOFFSETFROM:+0100
RRULE:FREQ=YEARLY;BYMONTH=3;BYDAY=-1SU
DTSTART:19810329T020000
TZNAME:UTC+2
TZOFFSETTO:+0200
END:DAYLIGHT
BEGIN:STANDARD
TZOFFSETFROM:+0200
RRULE:FREQ=YEARLY;BYMONTH=10;BYDAY=-1SU
DTSTART:19961027T030000
TZNAME:UTC+1
TZOFFSETTO:+0100
END:STANDARD
END:VTIMEZONE
BEGIN:VEVENT
TRANSP:OPAQUE
DTSTART;TZID=Europe/Paris:20260425T123000Z
DTEND;TZID=Europe/Paris:20260425T123000Z
SUMMARY:Les papotines des femmes - Espace d'échanges et de soutien
LOCATION:au centre d'animation Bastide Benauge
DESCRIPTION:Samedi 25 avril à partir de 14h30 venez partager, écouter, déposer votre parole, autour d'un goûter dans un cadre chaleureux et bienveillant. Ce groupe de parole entre femmes offre un espace d'échanges, d'entraide et de discussion en toute confidentialité. Ce collectif est encadré par des professionnelles, dont une infirmière et ne psychologue. &nbsp; Sur inscription obligatoire auprès d'Hélène au 06 74 09 50 54 1 samedi par mois
END:VEVENT
END:VCALENDAR