BEGIN:VCALENDAR
PRODID:-//hacksw/handcal//NONSGML v1.0//EN
VERSION:2.0
CALSCALE:GREGORIAN
BEGIN:VTIMEZONE
TZID:Europe/Paris
BEGIN:DAYLIGHT
TZOFFSETFROM:+0100
RRULE:FREQ=YEARLY;BYMONTH=3;BYDAY=-1SU
DTSTART:19810329T020000
TZNAME:UTC+2
TZOFFSETTO:+0200
END:DAYLIGHT
BEGIN:STANDARD
TZOFFSETFROM:+0200
RRULE:FREQ=YEARLY;BYMONTH=10;BYDAY=-1SU
DTSTART:19961027T030000
TZNAME:UTC+1
TZOFFSETTO:+0100
END:STANDARD
END:VTIMEZONE
BEGIN:VEVENT
TRANSP:OPAQUE
DTSTART;TZID=Europe/Paris:20260523T070000Z
DTEND;TZID=Europe/Paris:20260523T160000Z
SUMMARY:ADULTES & FAMILLES & JEUNESSE - Sortie Biscarosse et accrobranche
LOCATION:Biscarosse
DESCRIPTION:Une journée à Biscarosse, balade au bord de l'eau et après-midi accrobranche pour petits et grands. Journée en lien avec le secteur Jeunesse. A partir de 4 ans, 40 places disponibles.
END:VEVENT
END:VCALENDAR