BEGIN:VCALENDAR
PRODID:-//hacksw/handcal//NONSGML v1.0//EN
VERSION:2.0
CALSCALE:GREGORIAN
BEGIN:VTIMEZONE
TZID:Europe/Paris
BEGIN:DAYLIGHT
TZOFFSETFROM:+0100
RRULE:FREQ=YEARLY;BYMONTH=3;BYDAY=-1SU
DTSTART:19810329T020000
TZNAME:UTC+2
TZOFFSETTO:+0200
END:DAYLIGHT
BEGIN:STANDARD
TZOFFSETFROM:+0200
RRULE:FREQ=YEARLY;BYMONTH=10;BYDAY=-1SU
DTSTART:19961027T030000
TZNAME:UTC+1
TZOFFSETTO:+0100
END:STANDARD
END:VTIMEZONE
BEGIN:VEVENT
TRANSP:OPAQUE
DTSTART;TZID=Europe/Paris:20260509T120000Z
DTEND;TZID=Europe/Paris:20260509T120000Z
SUMMARY:Les bulles de bien-être au centre d'animation Bastide Benauge
LOCATION:au centre d'animation Bastide Benauge
DESCRIPTION:Nous vous proposons un moment détente, un moment bien-être samedi 9 mai de 14h à 17h. Suivi d'un goûter partager. Ouvert à tous  <strong>mais inscription obligatoire pour le yoga.</strong> &nbsp;
END:VEVENT
END:VCALENDAR