BEGIN:VCALENDAR
PRODID:-//hacksw/handcal//NONSGML v1.0//EN
VERSION:2.0
CALSCALE:GREGORIAN
BEGIN:VTIMEZONE
TZID:Europe/Paris
BEGIN:DAYLIGHT
TZOFFSETFROM:+0100
RRULE:FREQ=YEARLY;BYMONTH=3;BYDAY=-1SU
DTSTART:19810329T020000
TZNAME:UTC+2
TZOFFSETTO:+0200
END:DAYLIGHT
BEGIN:STANDARD
TZOFFSETFROM:+0200
RRULE:FREQ=YEARLY;BYMONTH=10;BYDAY=-1SU
DTSTART:19961027T030000
TZNAME:UTC+1
TZOFFSETTO:+0100
END:STANDARD
END:VTIMEZONE
BEGIN:VEVENT
TRANSP:OPAQUE
DTSTART;TZID=Europe/Paris:20260520T080000Z
DTEND;TZID=Europe/Paris:20260520T080000Z
SUMMARY:Les enfants fêtent le sport
LOCATION:Parc Bascassat 
DESCRIPTION:Le centre d'animation, propose au parc Brascassat, une journée entièrement dédiée aux sports.

Partagé un moment ludique et dynamique, avec des animations sportives présentées dans le cadre du Défi 10 jours sans écrans.

Les centres de loisirs du quartier participeront et les activités sont également ouvertes aux familles intéressées.

Le matin pour les plus jeunes (3-5 ans) et l'après-midi pour les plus grands.

10h00 - 12h00 3-5 ans

14h00 - 17h00 6-11 ans
END:VEVENT
END:VCALENDAR